BEGIN:VCALENDAR
VERSION:2.0
PRODID:-//Yellowhammer Fund - ECPv6.15.20//NONSGML v1.0//EN
CALSCALE:GREGORIAN
METHOD:PUBLISH
X-WR-CALNAME:Yellowhammer Fund
X-ORIGINAL-URL:https://www.yellowhammerfund.org
X-WR-CALDESC:Events for Yellowhammer Fund
REFRESH-INTERVAL;VALUE=DURATION:PT1H
X-Robots-Tag:noindex
X-PUBLISHED-TTL:PT1H
BEGIN:VTIMEZONE
TZID:America/Chicago
BEGIN:DAYLIGHT
TZOFFSETFROM:-0600
TZOFFSETTO:-0500
TZNAME:CDT
DTSTART:20190310T080000
END:DAYLIGHT
BEGIN:STANDARD
TZOFFSETFROM:-0500
TZOFFSETTO:-0600
TZNAME:CST
DTSTART:20191103T070000
END:STANDARD
BEGIN:DAYLIGHT
TZOFFSETFROM:-0600
TZOFFSETTO:-0500
TZNAME:CDT
DTSTART:20200308T080000
END:DAYLIGHT
BEGIN:STANDARD
TZOFFSETFROM:-0500
TZOFFSETTO:-0600
TZNAME:CST
DTSTART:20201101T070000
END:STANDARD
BEGIN:DAYLIGHT
TZOFFSETFROM:-0600
TZOFFSETTO:-0500
TZNAME:CDT
DTSTART:20210314T080000
END:DAYLIGHT
BEGIN:STANDARD
TZOFFSETFROM:-0500
TZOFFSETTO:-0600
TZNAME:CST
DTSTART:20211107T070000
END:STANDARD
END:VTIMEZONE
BEGIN:VEVENT
DTSTART;TZID=America/Chicago:20200201T120000
DTEND;TZID=America/Chicago:20200201T160000
DTSTAMP:20260420T230218
CREATED:20200121T194547Z
LAST-MODIFIED:20200121T201727Z
UID:4820-1580558400-1580572800@www.yellowhammerfund.org
SUMMARY:The March For Our Rights 2020
DESCRIPTION:The Yellowhammer Fund & POWER House is proud to present The March For Our Rights 2020 Montgomery\, Alabama (formerly known as The Women’s March) on Saturday\, February 1\, 2020 in historic downtown Montgomery. \nThe 2020 Alabama Legislative session begins on February 4th. Join us as we send a message to our elected officials that we will NOT allow them to take away our rights (again)! We dare defend our right to abortion care & access\, affordable healthcare & Medicaid expansion\, voting rights\, and LGBTQ+ rights & protections. \nWe will meet at the Court Square Fountain starting at noon. We will march up Dexter Avenue to the State Capitol steps at 1PM and rally until 4PM. Our special guest MC will be Alabama’s own Ambrosia Starling – you will NOT want to miss this rally! \nIf you or the organization you represent shares our values and would like to speak at this rally\, please contact Mia Raven at: mia@yellowhammerfund.org. \nWe will be announcing more details in the coming weeks so keep your eyes peeled to the comments below for more information. \nThe POWER House clinic escorts will be on hand to provide security and assist attendees as needed. Look for them in the RAINBOW clinic escort vests if you need help. \nBoth the Yellowhammer Fund & POWER House strives to make our events accessible to ALL\, regardless of ability. If you are unable to physically walk to the Capitol\, we will have vehicles available to drive you there. \nSee you at the march!!
URL:https://www.yellowhammerfund.org/event/the-march-for-our-rights-2020/
LOCATION:Alabama State Capitol\, Court Square Fountain\, Montgomery\, AL\, United States
ATTACH;FMTTYPE=image/jpeg:https://www.yellowhammerfund.org/wp-content/uploads/2020/01/marchforourrights2020.jpg
END:VEVENT
END:VCALENDAR