BEGIN:VCALENDAR
VERSION:2.0
PRODID:-//Yellowhammer Fund - ECPv6.15.20//NONSGML v1.0//EN
CALSCALE:GREGORIAN
METHOD:PUBLISH
X-ORIGINAL-URL:https://www.yellowhammerfund.org
X-WR-CALDESC:Events for Yellowhammer Fund
REFRESH-INTERVAL;VALUE=DURATION:PT1H
X-Robots-Tag:noindex
X-PUBLISHED-TTL:PT1H
BEGIN:VTIMEZONE
TZID:America/Chicago
BEGIN:DAYLIGHT
TZOFFSETFROM:-0600
TZOFFSETTO:-0500
TZNAME:CDT
DTSTART:20220313T080000
END:DAYLIGHT
BEGIN:STANDARD
TZOFFSETFROM:-0500
TZOFFSETTO:-0600
TZNAME:CST
DTSTART:20221106T070000
END:STANDARD
BEGIN:DAYLIGHT
TZOFFSETFROM:-0600
TZOFFSETTO:-0500
TZNAME:CDT
DTSTART:20230312T080000
END:DAYLIGHT
BEGIN:STANDARD
TZOFFSETFROM:-0500
TZOFFSETTO:-0600
TZNAME:CST
DTSTART:20231105T070000
END:STANDARD
BEGIN:DAYLIGHT
TZOFFSETFROM:-0600
TZOFFSETTO:-0500
TZNAME:CDT
DTSTART:20240310T080000
END:DAYLIGHT
BEGIN:STANDARD
TZOFFSETFROM:-0500
TZOFFSETTO:-0600
TZNAME:CST
DTSTART:20241103T070000
END:STANDARD
END:VTIMEZONE
BEGIN:VEVENT
DTSTART;TZID=America/Chicago:20230325T180000
DTEND;TZID=America/Chicago:20230325T210000
DTSTAMP:20260421T005947
CREATED:20230302T172721Z
LAST-MODIFIED:20230302T185618Z
UID:28704-1679767200-1679778000@www.yellowhammerfund.org
SUMMARY:The ReFrame // Abortion is...
DESCRIPTION:The ReFrame // Abortion is…\nPresented by Alabama Values\, 21 Dreams Arts & Culture\, Yellowhammer Fund\, URGE\, P.O.W.E.R.\nHouse\, Planned Parenthood Southeast\, The Knights & Orchids Society\, and Project Say Something \nShow Description:\nThe ReFrame is a pop-up artivism event under “It’s My Body. Period.”\, an Alabama Values Initiative in collaboration with reproductive rights partners across Alabama. “It’s My Body. Period.” is a content-heavy educational series and outreach centering around the reproductive fight with the goal of closing the knowledge gap around reproductive justice. We hope to tear down the frames of disinformation that wreak havoc on the movement to fight for reproductive rights.\nThe ReFrame will feature thought-provoking art created by local artists around reproductive justice and health care\, as well as a panel discussion featuring activists and artists.\n\n*Space is limited and Refreshments will be provided.* \nWhen: Sat. March 25\, 2023 from 6 p.m. – 9 p.m. \nWhere: AESTHETIK BHAM – 212 24th Street North\, Birmingham\, AL 35203 \nMust RSVP to attend: tinyurl.com/reframersvp
URL:https://www.yellowhammerfund.org/event/the-reframe/
LOCATION:Aesthetik Bham\, 212 24th Street North\, Birmingham\, AL\, 35203\, United States
CATEGORIES:Artivism,Pop-up
ATTACH;FMTTYPE=image/png:https://www.yellowhammerfund.org/wp-content/uploads/2023/03/ReFrame-Social-post.png
END:VEVENT
END:VCALENDAR